Package: cola Version: 2.14.0 Command: /Library/Frameworks/R.framework/Resources/bin/R CMD INSTALL cola StartedAt: 2025-09-29 15:58:30 -0400 (Mon, 29 Sep 2025) EndedAt: 2025-09-29 15:59:02 -0400 (Mon, 29 Sep 2025) EllapsedTime: 32.3 seconds RetCode: 0 Status: OK