Package: cola Version: 2.14.0 Command: rm -rf cola.buildbin-libdir && mkdir cola.buildbin-libdir && /Users/biocbuild/BBS/utils/build-universal.sh cola_2.14.0.tar.gz /Library/Frameworks/R.framework/Resources/bin/R cola.buildbin-libdir StartedAt: 2025-10-01 17:55:53 -0400 (Wed, 01 Oct 2025) EndedAt: 2025-10-01 17:56:31 -0400 (Wed, 01 Oct 2025) EllapsedTime: 38.5 seconds RetCode: 0 Status: OK PackageFile: cola_2.14.0.tgz PackageFileSize: 4.632 MiB