Package: cogeqc Version: 1.12.0 Command: E:\biocbuild\bbs-3.21-bioc\R\bin\R.exe CMD check --no-multiarch --install=check:cogeqc.install-out.txt --library=E:\biocbuild\bbs-3.21-bioc\R\library --no-vignettes --timings cogeqc_1.12.0.tar.gz StartedAt: 2025-08-15 00:47:43 -0400 (Fri, 15 Aug 2025) EndedAt: 2025-08-15 00:50:43 -0400 (Fri, 15 Aug 2025) EllapsedTime: 180.2 seconds RetCode: 0 Status: OK CheckDir: cogeqc.Rcheck Warnings: 0