Package: cogeqc Version: 1.12.0 Command: /Library/Frameworks/R.framework/Resources/bin/R CMD INSTALL cogeqc StartedAt: 2025-10-13 15:59:34 -0400 (Mon, 13 Oct 2025) EndedAt: 2025-10-13 16:00:08 -0400 (Mon, 13 Oct 2025) EllapsedTime: 33.4 seconds RetCode: 0 Status: OK