Package: cogeqc Version: 1.12.0 Command: /Library/Frameworks/R.framework/Resources/bin/R CMD build --keep-empty-dirs --no-resave-data cogeqc StartedAt: 2025-10-13 18:02:21 -0400 (Mon, 13 Oct 2025) EndedAt: 2025-10-13 18:06:41 -0400 (Mon, 13 Oct 2025) EllapsedTime: 259.3 seconds RetCode: 0 Status: OK PackageFile: cogeqc_1.12.0.tar.gz PackageFileSize: 3.311 MiB