Package: cogeqc Version: 1.12.0 Command: /home/biocbuild/R/R/bin/R CMD check --install=check:cogeqc.install-out.txt --library=/home/biocbuild/R/R/site-library --no-vignettes --timings cogeqc_1.12.0.tar.gz StartedAt: 2025-10-14 07:41:55 -0000 (Tue, 14 Oct 2025) EndedAt: 2025-10-14 07:45:44 -0000 (Tue, 14 Oct 2025) EllapsedTime: 228.1 seconds RetCode: 0 Status: OK CheckDir: cogeqc.Rcheck Warnings: 0