Package: cogeqc Version: 1.12.0 Command: /Library/Frameworks/R.framework/Resources/bin/R CMD INSTALL cogeqc StartedAt: 2025-10-13 15:55:54 -0400 (Mon, 13 Oct 2025) EndedAt: 2025-10-13 15:56:12 -0400 (Mon, 13 Oct 2025) EllapsedTime: 17.5 seconds RetCode: 0 Status: OK