Package: cogeqc Version: 1.12.0 Command: /Library/Frameworks/R.framework/Resources/bin/R CMD check --install=check:cogeqc.install-out.txt --library=/Library/Frameworks/R.framework/Resources/library --no-vignettes --timings cogeqc_1.12.0.tar.gz StartedAt: 2025-10-14 16:49:09 -0400 (Tue, 14 Oct 2025) EndedAt: 2025-10-14 16:52:22 -0400 (Tue, 14 Oct 2025) EllapsedTime: 193.8 seconds RetCode: 0 Status: OK CheckDir: cogeqc.Rcheck Warnings: 0