Package: coRdon Version: 1.26.0 Command: chmod a+r coRdon -R && E:\biocbuild\bbs-3.21-bioc\R\bin\R.exe CMD build --keep-empty-dirs --no-resave-data coRdon StartedAt: 2025-08-14 18:15:02 -0400 (Thu, 14 Aug 2025) EndedAt: 2025-08-14 18:16:21 -0400 (Thu, 14 Aug 2025) EllapsedTime: 79.0 seconds RetCode: 0 Status: OK PackageFile: coRdon_1.26.0.tar.gz PackageFileSize: 1.051 MiB