Package: coRdon Version: 1.26.0 Command: rm -rf coRdon.buildbin-libdir && mkdir coRdon.buildbin-libdir && E:\biocbuild\bbs-3.21-bioc\R\bin\R.exe CMD INSTALL --build --library=coRdon.buildbin-libdir coRdon_1.26.0.tar.gz StartedAt: 2025-08-15 09:03:23 -0400 (Fri, 15 Aug 2025) EndedAt: 2025-08-15 09:04:09 -0400 (Fri, 15 Aug 2025) EllapsedTime: 45.4 seconds RetCode: 0 Status: OK PackageFile: coRdon_1.26.0.zip PackageFileSize: 1.456 MiB