Package: coRdon Version: 1.26.0 Command: /Library/Frameworks/R.framework/Resources/bin/R CMD INSTALL coRdon StartedAt: 2025-10-13 15:42:12 -0400 (Mon, 13 Oct 2025) EndedAt: 2025-10-13 15:42:30 -0400 (Mon, 13 Oct 2025) EllapsedTime: 18.1 seconds RetCode: 0 Status: OK