Package: coRdon Version: 1.26.0 Command: rm -rf coRdon.buildbin-libdir && mkdir coRdon.buildbin-libdir && /Users/biocbuild/BBS/utils/build-universal.sh coRdon_1.26.0.tar.gz /Library/Frameworks/R.framework/Resources/bin/R coRdon.buildbin-libdir StartedAt: 2025-10-15 18:00:04 -0400 (Wed, 15 Oct 2025) EndedAt: 2025-10-15 18:00:27 -0400 (Wed, 15 Oct 2025) EllapsedTime: 22.7 seconds RetCode: 0 Status: OK PackageFile: coRdon_1.26.0.tgz PackageFileSize: 2.768 MiB