Package: coMethDMR Version: 1.12.0 Command: /home/biocbuild/bbs-3.21-bioc/R/bin/R CMD INSTALL coMethDMR StartedAt: 2025-10-15 15:42:34 -0400 (Wed, 15 Oct 2025) EndedAt: 2025-10-15 15:43:18 -0400 (Wed, 15 Oct 2025) EllapsedTime: 44.2 seconds RetCode: 0 Status: OK