Package: coMethDMR Version: 1.12.0 Command: /Library/Frameworks/R.framework/Resources/bin/R CMD INSTALL coMethDMR StartedAt: 2025-04-21 15:36:14 -0400 (Mon, 21 Apr 2025) EndedAt: 2025-04-21 15:37:16 -0400 (Mon, 21 Apr 2025) EllapsedTime: 61.5 seconds RetCode: 0 Status: OK