Package: coMethDMR Version: 1.12.0 Command: /home/biocbuild/R/R/bin/R CMD INSTALL coMethDMR StartedAt: 2025-10-13 20:58:45 -0000 (Mon, 13 Oct 2025) EndedAt: 2025-10-13 20:59:52 -0000 (Mon, 13 Oct 2025) EllapsedTime: 67.5 seconds RetCode: 0 Status: OK