Package: coMethDMR Version: 1.12.0 Command: /home/biocbuild/R/R/bin/R CMD build --keep-empty-dirs --no-resave-data coMethDMR StartedAt: 2025-10-13 23:47:49 -0000 (Mon, 13 Oct 2025) EndedAt: 2025-10-13 23:54:06 -0000 (Mon, 13 Oct 2025) EllapsedTime: 377.1 seconds RetCode: 0 Status: OK PackageFile: coMethDMR_1.12.0.tar.gz PackageFileSize: 3.146 MiB