Package: coMethDMR Version: 1.12.0 Command: rm -rf coMethDMR.buildbin-libdir && mkdir coMethDMR.buildbin-libdir && /Users/biocbuild/BBS/utils/build-universal.sh coMethDMR_1.12.0.tar.gz /Library/Frameworks/R.framework/Resources/bin/R coMethDMR.buildbin-libdir StartedAt: 2025-04-21 22:30:41 -0400 (Mon, 21 Apr 2025) EndedAt: 2025-04-21 22:31:01 -0400 (Mon, 21 Apr 2025) EllapsedTime: 20.4 seconds RetCode: 0 Status: OK PackageFile: coMethDMR_1.12.0.tgz PackageFileSize: 3.176 MiB