Package: coMethDMR Version: 1.12.0 Command: /Library/Frameworks/R.framework/Resources/bin/R CMD INSTALL coMethDMR StartedAt: 2025-10-13 17:28:48 -0400 (Mon, 13 Oct 2025) EndedAt: 2025-10-13 17:29:43 -0400 (Mon, 13 Oct 2025) EllapsedTime: 54.8 seconds RetCode: 0 Status: OK