Package: coMET Version: 1.40.0 Command: chmod a+r coMET -R && E:\biocbuild\bbs-3.21-bioc\R\bin\R.exe CMD build --keep-empty-dirs --no-resave-data coMET StartedAt: 2025-08-14 18:11:33 -0400 (Thu, 14 Aug 2025) EndedAt: 2025-08-14 18:15:17 -0400 (Thu, 14 Aug 2025) EllapsedTime: 224.1 seconds RetCode: 0 Status: OK PackageFile: coMET_1.40.0.tar.gz PackageFileSize: 21.84 MiB