Package: coMET Version: 1.40.0 Command: /Library/Frameworks/R.framework/Resources/bin/R CMD check --install=check:coMET.install-out.txt --library=/Library/Frameworks/R.framework/Resources/library --no-vignettes --timings coMET_1.40.0.tar.gz StartedAt: 2025-04-21 19:52:43 -0400 (Mon, 21 Apr 2025) EndedAt: 2025-04-21 20:01:59 -0400 (Mon, 21 Apr 2025) EllapsedTime: 556.6 seconds RetCode: 1 Status: ERROR CheckDir: coMET.Rcheck Warnings: NA