Package: coMET Version: 1.40.0 Command: /home/biocbuild/R/R/bin/R CMD check --install=check:coMET.install-out.txt --library=/home/biocbuild/R/R/site-library --no-vignettes --timings coMET_1.40.0.tar.gz StartedAt: 2025-09-30 08:18:14 -0000 (Tue, 30 Sep 2025) EndedAt: 2025-09-30 08:29:25 -0000 (Tue, 30 Sep 2025) EllapsedTime: 670.4 seconds RetCode: 1 Status: ERROR CheckDir: coMET.Rcheck Warnings: NA