Package: coMET Version: 1.40.0 Command: /Library/Frameworks/R.framework/Resources/bin/R CMD INSTALL coMET StartedAt: 2025-09-29 18:28:59 -0400 (Mon, 29 Sep 2025) EndedAt: 2025-09-29 18:30:05 -0400 (Mon, 29 Sep 2025) EllapsedTime: 66.1 seconds RetCode: 0 Status: OK