Package: coMET Version: 1.40.0 Command: /Library/Frameworks/R.framework/Resources/bin/R CMD check --install=check:coMET.install-out.txt --library=/Library/Frameworks/R.framework/Resources/library --no-vignettes --timings coMET_1.40.0.tar.gz StartedAt: 2025-10-03 16:45:13 -0400 (Fri, 03 Oct 2025) EndedAt: 2025-10-03 16:55:22 -0400 (Fri, 03 Oct 2025) EllapsedTime: 608.9 seconds RetCode: 0 Status: WARNINGS CheckDir: coMET.Rcheck Warnings: 1