Package: coMET Version: 1.40.0 Command: rm -rf coMET.buildbin-libdir && mkdir coMET.buildbin-libdir && /Users/biocbuild/BBS/utils/build-universal.sh coMET_1.40.0.tar.gz /Library/Frameworks/R.framework/Resources/bin/R coMET.buildbin-libdir StartedAt: 2025-10-01 17:56:02 -0400 (Wed, 01 Oct 2025) EndedAt: 2025-10-01 17:57:18 -0400 (Wed, 01 Oct 2025) EllapsedTime: 76.1 seconds RetCode: 0 Status: OK PackageFile: coMET_1.40.0.tgz PackageFileSize: 21.83 MiB