Package: coGPS Version: 1.52.0 Command: /Library/Frameworks/R.framework/Resources/bin/R CMD INSTALL coGPS StartedAt: 2025-10-13 15:08:59 -0400 (Mon, 13 Oct 2025) EndedAt: 2025-10-13 15:09:03 -0400 (Mon, 13 Oct 2025) EllapsedTime: 3.8 seconds RetCode: 0 Status: OK