Package: coGPS Version: 1.52.0 Command: /Library/Frameworks/R.framework/Resources/bin/R CMD build --keep-empty-dirs --no-resave-data coGPS StartedAt: 2025-10-13 21:42:51 -0400 (Mon, 13 Oct 2025) EndedAt: 2025-10-13 21:43:06 -0400 (Mon, 13 Oct 2025) EllapsedTime: 14.5 seconds RetCode: 0 Status: OK PackageFile: coGPS_1.52.0.tar.gz PackageFileSize: 1.762 MiB