Package: cnvGSA Version: 1.52.0 Command: rm -rf cnvGSA.buildbin-libdir && mkdir cnvGSA.buildbin-libdir && E:\biocbuild\bbs-3.21-bioc\R\bin\R.exe CMD INSTALL --build --library=cnvGSA.buildbin-libdir cnvGSA_1.52.0.tar.gz StartedAt: 2025-08-15 09:01:31 -0400 (Fri, 15 Aug 2025) EndedAt: 2025-08-15 09:01:58 -0400 (Fri, 15 Aug 2025) EllapsedTime: 26.6 seconds RetCode: 0 Status: OK PackageFile: cnvGSA_1.52.0.zip PackageFileSize: 358.9 KiB