Package: cnvGSA Version: 1.52.0 Command: rm -rf cnvGSA.buildbin-libdir && mkdir cnvGSA.buildbin-libdir && /Users/biocbuild/BBS/utils/build-universal.sh cnvGSA_1.52.0.tar.gz /Library/Frameworks/R.framework/Resources/bin/R cnvGSA.buildbin-libdir StartedAt: 2025-10-14 13:05:49 -0400 (Tue, 14 Oct 2025) EndedAt: 2025-10-14 13:06:16 -0400 (Tue, 14 Oct 2025) EllapsedTime: 27.4 seconds RetCode: 0 Status: OK PackageFile: cnvGSA_1.52.0.tgz PackageFileSize: 430.4 KiB