Package: cnvGSA Version: 1.52.0 Command: /Library/Frameworks/R.framework/Resources/bin/R CMD INSTALL cnvGSA StartedAt: 2025-04-21 15:15:22 -0400 (Mon, 21 Apr 2025) EndedAt: 2025-04-21 15:15:37 -0400 (Mon, 21 Apr 2025) EllapsedTime: 15.9 seconds RetCode: 0 Status: OK