Package: cnvGSA Version: 1.52.0 Command: /Library/Frameworks/R.framework/Resources/bin/R CMD check --install=check:cnvGSA.install-out.txt --library=/Library/Frameworks/R.framework/Resources/library --no-vignettes --timings cnvGSA_1.52.0.tar.gz StartedAt: 2025-04-21 19:50:43 -0400 (Mon, 21 Apr 2025) EndedAt: 2025-04-21 19:52:07 -0400 (Mon, 21 Apr 2025) EllapsedTime: 84.2 seconds RetCode: 0 Status: OK CheckDir: cnvGSA.Rcheck Warnings: 0