Package: cnvGSA Version: 1.52.0 Command: /home/biocbuild/R/R/bin/R CMD check --install=check:cnvGSA.install-out.txt --library=/home/biocbuild/R/R/site-library --no-vignettes --timings cnvGSA_1.52.0.tar.gz StartedAt: 2025-10-14 07:39:55 -0000 (Tue, 14 Oct 2025) EndedAt: 2025-10-14 07:41:20 -0000 (Tue, 14 Oct 2025) EllapsedTime: 85.1 seconds RetCode: 0 Status: OK CheckDir: cnvGSA.Rcheck Warnings: 0