Package: cnvGSA Version: 1.52.0 Command: rm -rf cnvGSA.buildbin-libdir && mkdir cnvGSA.buildbin-libdir && /Users/biocbuild/BBS/utils/build-universal.sh cnvGSA_1.52.0.tar.gz /Library/Frameworks/R.framework/Resources/bin/R cnvGSA.buildbin-libdir StartedAt: 2025-04-21 22:30:25 -0400 (Mon, 21 Apr 2025) EndedAt: 2025-04-21 22:30:30 -0400 (Mon, 21 Apr 2025) EllapsedTime: 5.1 seconds RetCode: 0 Status: OK PackageFile: cnvGSA_1.52.0.tgz PackageFileSize: 430.3 KiB