Package: cn.mops Version: 1.54.0 Command: E:\biocbuild\bbs-3.21-bioc\R\bin\R.exe CMD check --no-multiarch --install=check:cn.mops.install-out.txt --library=E:\biocbuild\bbs-3.21-bioc\R\library --no-vignettes --timings cn.mops_1.54.0.tar.gz StartedAt: 2025-08-15 00:43:50 -0400 (Fri, 15 Aug 2025) EndedAt: 2025-08-15 00:48:04 -0400 (Fri, 15 Aug 2025) EllapsedTime: 254.7 seconds RetCode: 0 Status: OK CheckDir: cn.mops.Rcheck Warnings: 0