Package: cn.mops Version: 1.54.0 Command: /Library/Frameworks/R.framework/Resources/bin/R CMD INSTALL cn.mops StartedAt: 2025-10-13 16:02:26 -0400 (Mon, 13 Oct 2025) EndedAt: 2025-10-13 16:02:47 -0400 (Mon, 13 Oct 2025) EllapsedTime: 21.3 seconds RetCode: 0 Status: OK