Package: cn.mops Version: 1.54.0 Command: /Library/Frameworks/R.framework/Resources/bin/R CMD build --keep-empty-dirs --no-resave-data cn.mops StartedAt: 2025-10-13 21:34:37 -0400 (Mon, 13 Oct 2025) EndedAt: 2025-10-13 21:35:30 -0400 (Mon, 13 Oct 2025) EllapsedTime: 52.2 seconds RetCode: 0 Status: OK PackageFile: cn.mops_1.54.0.tar.gz PackageFileSize: 1.003 MiB