Package: cn.mops Version: 1.54.0 Command: rm -rf cn.mops.buildbin-libdir && mkdir cn.mops.buildbin-libdir && /Users/biocbuild/BBS/utils/build-universal.sh cn.mops_1.54.0.tar.gz /Library/Frameworks/R.framework/Resources/bin/R cn.mops.buildbin-libdir StartedAt: 2025-10-15 17:54:51 -0400 (Wed, 15 Oct 2025) EndedAt: 2025-10-15 17:55:16 -0400 (Wed, 15 Oct 2025) EllapsedTime: 25.0 seconds RetCode: 0 Status: OK PackageFile: cn.mops_1.54.0.tgz PackageFileSize: 1.387 MiB