Package: cn.farms Version: 1.56.2 Command: /Library/Frameworks/R.framework/Resources/bin/R CMD check --install=check:cn.farms.install-out.txt --library=/Library/Frameworks/R.framework/Resources/library --no-vignettes --timings cn.farms_1.56.2.tar.gz StartedAt: 2025-10-10 01:43:03 -0400 (Fri, 10 Oct 2025) EndedAt: 2025-10-10 01:51:11 -0400 (Fri, 10 Oct 2025) EllapsedTime: 488.5 seconds RetCode: 0 Status: OK CheckDir: cn.farms.Rcheck Warnings: 0