Package: clipper Version: 1.48.0 Command: rm -rf clipper.buildbin-libdir && mkdir clipper.buildbin-libdir && E:\biocbuild\bbs-3.21-bioc\R\bin\R.exe CMD INSTALL --build --library=clipper.buildbin-libdir clipper_1.48.0.tar.gz StartedAt: 2025-08-15 09:00:08 -0400 (Fri, 15 Aug 2025) EndedAt: 2025-08-15 09:00:59 -0400 (Fri, 15 Aug 2025) EllapsedTime: 50.5 seconds RetCode: 0 Status: OK PackageFile: clipper_1.48.0.zip PackageFileSize: 721 KiB