Package: clippda Version: 1.58.0 Command: chmod a+r clippda -R && E:\biocbuild\bbs-3.21-bioc\R\bin\R.exe CMD build --keep-empty-dirs --no-resave-data clippda StartedAt: 2025-08-14 18:05:22 -0400 (Thu, 14 Aug 2025) EndedAt: 2025-08-14 18:07:15 -0400 (Thu, 14 Aug 2025) EllapsedTime: 113.3 seconds RetCode: 0 Status: OK PackageFile: clippda_1.58.0.tar.gz PackageFileSize: 1.341 MiB