Package: clippda Version: 1.58.0 Command: rm -rf clippda.buildbin-libdir && mkdir clippda.buildbin-libdir && E:\biocbuild\bbs-3.21-bioc\R\bin\R.exe CMD INSTALL --build --library=clippda.buildbin-libdir clippda_1.58.0.tar.gz StartedAt: 2025-08-15 09:00:07 -0400 (Fri, 15 Aug 2025) EndedAt: 2025-08-15 09:00:32 -0400 (Fri, 15 Aug 2025) EllapsedTime: 25.2 seconds RetCode: 0 Status: OK PackageFile: clippda_1.58.0.zip PackageFileSize: 1.596 MiB