Package: clippda Version: 1.58.0 Command: /Library/Frameworks/R.framework/Resources/bin/R CMD INSTALL clippda StartedAt: 2025-10-02 15:36:05 -0400 (Thu, 02 Oct 2025) EndedAt: 2025-10-02 15:36:13 -0400 (Thu, 02 Oct 2025) EllapsedTime: 8.5 seconds RetCode: 0 Status: OK