Package: clippda Version: 1.58.0 Command: /Library/Frameworks/R.framework/Resources/bin/R CMD build --keep-empty-dirs --no-resave-data clippda StartedAt: 2025-10-02 21:25:58 -0400 (Thu, 02 Oct 2025) EndedAt: 2025-10-02 21:27:55 -0400 (Thu, 02 Oct 2025) EllapsedTime: 117.0 seconds RetCode: 0 Status: OK PackageFile: clippda_1.58.0.tar.gz PackageFileSize: 1.496 MiB