Package: clippda Version: 1.58.0 Command: rm -rf clippda.buildbin-libdir && mkdir clippda.buildbin-libdir && /Users/biocbuild/BBS/utils/build-universal.sh clippda_1.58.0.tar.gz /Library/Frameworks/R.framework/Resources/bin/R clippda.buildbin-libdir StartedAt: 2025-10-04 17:23:02 -0400 (Sat, 04 Oct 2025) EndedAt: 2025-10-04 17:23:12 -0400 (Sat, 04 Oct 2025) EllapsedTime: 10.0 seconds RetCode: 0 Status: OK PackageFile: clippda_1.58.0.tgz PackageFileSize: 1.747 MiB