Package: cliProfiler Version: 1.14.0 Command: /Library/Frameworks/R.framework/Resources/bin/R CMD INSTALL cliProfiler StartedAt: 2025-10-13 16:46:09 -0400 (Mon, 13 Oct 2025) EndedAt: 2025-10-13 16:46:50 -0400 (Mon, 13 Oct 2025) EllapsedTime: 41.3 seconds RetCode: 0 Status: OK