Package: cliProfiler Version: 1.14.0 Command: /Library/Frameworks/R.framework/Resources/bin/R CMD build --keep-empty-dirs --no-resave-data cliProfiler StartedAt: 2025-10-13 21:24:12 -0400 (Mon, 13 Oct 2025) EndedAt: 2025-10-13 21:25:38 -0400 (Mon, 13 Oct 2025) EllapsedTime: 86.8 seconds RetCode: 0 Status: OK PackageFile: cliProfiler_1.14.0.tar.gz PackageFileSize: 1.284 MiB