Package: cleaver Version: 1.46.0 Command: /home/biocbuild/bbs-3.21-bioc/R/bin/R CMD INSTALL cleaver StartedAt: 2025-10-01 15:26:16 -0400 (Wed, 01 Oct 2025) EndedAt: 2025-10-01 15:26:26 -0400 (Wed, 01 Oct 2025) EllapsedTime: 9.3 seconds RetCode: 0 Status: OK