Package: cleanUpdTSeq Version: 1.46.0 Command: /Library/Frameworks/R.framework/Resources/bin/R CMD build --keep-empty-dirs --no-resave-data cleanUpdTSeq StartedAt: 2025-10-13 21:20:56 -0400 (Mon, 13 Oct 2025) EndedAt: 2025-10-13 21:22:44 -0400 (Mon, 13 Oct 2025) EllapsedTime: 107.8 seconds RetCode: 0 Status: OK PackageFile: cleanUpdTSeq_1.46.0.tar.gz PackageFileSize: 4.008 MiB