Package: cisPath Version: 1.48.0 Command: E:\biocbuild\bbs-3.21-bioc\R\bin\R.exe CMD check --no-multiarch --install=check:cisPath.install-out.txt --library=E:\biocbuild\bbs-3.21-bioc\R\library --no-vignettes --timings cisPath_1.48.0.tar.gz StartedAt: 2025-08-15 00:36:56 -0400 (Fri, 15 Aug 2025) EndedAt: 2025-08-15 00:38:15 -0400 (Fri, 15 Aug 2025) EllapsedTime: 78.9 seconds RetCode: 0 Status: OK CheckDir: cisPath.Rcheck Warnings: 0