Package: cisPath Version: 1.48.0 Command: /home/biocbuild/R/R/bin/R CMD INSTALL cisPath StartedAt: 2025-10-13 20:12:43 -0000 (Mon, 13 Oct 2025) EndedAt: 2025-10-13 20:13:10 -0000 (Mon, 13 Oct 2025) EllapsedTime: 27.2 seconds RetCode: 1 Status: ERROR