Package: cisPath Version: 1.48.0 Command: /Library/Frameworks/R.framework/Resources/bin/R CMD check --install=check:cisPath.install-out.txt --library=/Library/Frameworks/R.framework/Resources/library --no-vignettes --timings cisPath_1.48.0.tar.gz StartedAt: 2025-10-14 16:12:18 -0400 (Tue, 14 Oct 2025) EndedAt: 2025-10-14 16:12:47 -0400 (Tue, 14 Oct 2025) EllapsedTime: 29.1 seconds RetCode: 0 Status: WARNINGS CheckDir: cisPath.Rcheck Warnings: 2